BEGIN:VCALENDAR
VERSION:2.0
PRODID:-//ChamberMaster//Event Calendar 2.0//EN
METHOD:PUBLISH
X-PUBLISHED-TTL:P3D
REFRESH-INTERVAL:P3D
CALSCALE:GREGORIAN
BEGIN:VEVENT
DTSTART:20181218T233000Z
DTEND:20181219T010000Z
X-MICROSOFT-CDO-ALLDAYEVENT:FALSE
SUMMARY:Young Professionals Meeting
DESCRIPTION:The Young Professionals Committee is looking for members under 45 to be involved in every level of the NIBCA.  We offer networking\, education and advocacy intitives.  If you are interested or have a Young Professional in your organization\, have them join us to learn more about this great opportunity.
X-ALT-DESC;FMTTYPE=text/html:The Young Professionals Committee is looking for members under 45 to be involved in every level of the NIBCA.&nbsp\; We offer networking\, education and advocacy intitives.&nbsp\; If you are interested or have a Young Professional in your organization\, have them join us to learn more about this great opportunity.
LOCATION:Seasons in Coeur d Alene 209 E Lakeside Ave
UID:e.9298.1332
SEQUENCE:3
DTSTAMP:20260420T072009Z
URL:http://nibca-dev.memberzone.com/events/details/young-professionals-meeting-1332
END:VEVENT

END:VCALENDAR
