BEGIN:VCALENDAR
VERSION:2.0
PRODID:-//ChamberMaster//Event Calendar 2.0//EN
METHOD:PUBLISH
X-PUBLISHED-TTL:P3D
REFRESH-INTERVAL:P3D
CALSCALE:GREGORIAN
BEGIN:VEVENT
DTSTART:20190122T233000Z
DTEND:20190123T010000Z
X-MICROSOFT-CDO-ALLDAYEVENT:FALSE
SUMMARY:Young Professionals
DESCRIPTION:Young Professionals
X-ALT-DESC;FMTTYPE=text/html:Young Professionals
LOCATION:Fine Brewed Cafe 507 Sherman Ave Coeur D' Alene\, ID 83814
UID:e.9298.1337
SEQUENCE:3
DTSTAMP:20260420T035517Z
URL:http://nibca-dev.memberzone.com/events/details/young-professionals-1337
END:VEVENT

END:VCALENDAR
