BEGIN:VCALENDAR
VERSION:2.0
PRODID:-//ChamberMaster//Event Calendar 2.0//EN
METHOD:PUBLISH
X-PUBLISHED-TTL:P3D
REFRESH-INTERVAL:P3D
CALSCALE:GREGORIAN
BEGIN:VEVENT
DTSTART:20190226T233000Z
DTEND:20190227T010000Z
X-MICROSOFT-CDO-ALLDAYEVENT:FALSE
SUMMARY:Young Professional
DESCRIPTION:Join the Young Professionals  for our third meeting    We already have 39 members.
X-ALT-DESC;FMTTYPE=text/html:Join the Young Professionals&nbsp\; for our third meeting&nbsp\; &nbsp\; We already have 39 members.
LOCATION:The Mango Tree 1726 W Kathleen Ave CDA
UID:e.9298.1343
SEQUENCE:3
DTSTAMP:20260420T020613Z
URL:http://nibca-dev.memberzone.com/events/details/young-professional-1343
END:VEVENT

END:VCALENDAR
