BEGIN:VCALENDAR
VERSION:2.0
PRODID:-//ChamberMaster//Event Calendar 2.0//EN
METHOD:PUBLISH
X-PUBLISHED-TTL:P3D
REFRESH-INTERVAL:P3D
CALSCALE:GREGORIAN
BEGIN:VEVENT
DTSTART;VALUE=DATE:20181214
DTEND;VALUE=DATE:20181215
TRANSP:TRANSPARENT
X-MICROSOFT-CDO-ALLDAYEVENT:TRUE
SUMMARY:Warming Tree for St. Vincent's Warming Center
DESCRIPTION:We are in need of adult items (hats\, gloves\, socks\, etc) for PWB's warming tree.  The items will be delivered around the 18th of December to St. Vincent's Warming Center.
X-ALT-DESC;FMTTYPE=text/html:We are in need of adult items (hats\, gloves\, socks\, etc) for PWB&#39\;s warming tree.&nbsp\; The items will be delivered around the 18th of December to St. Vincent&#39\;s Warming Center.<br />\n&nbsp\;
LOCATION:Drop off items at the NIBCA office.
UID:e.9298.1334
SEQUENCE:3
DTSTAMP:20260420T054803Z
URL:http://nibca-dev.memberzone.com/events/details/warming-tree-for-st-vincent-s-warming-center-1334
END:VEVENT

END:VCALENDAR
