BEGIN:VCALENDAR
VERSION:2.0
PRODID:-//ChamberMaster//Event Calendar 2.0//EN
METHOD:PUBLISH
X-PUBLISHED-TTL:P3D
REFRESH-INTERVAL:P3D
CALSCALE:GREGORIAN
BEGIN:VEVENT
DTSTART:20181109T200000Z
DTEND:20181109T210000Z
X-MICROSOFT-CDO-ALLDAYEVENT:FALSE
SUMMARY:Professional Women in Building Meeting
DESCRIPTION:PWB meeting
X-ALT-DESC;FMTTYPE=text/html:PWB meeting
LOCATION:NIBCA office 1928 N 4th St Coeur d Alene
UID:e.9298.1260
SEQUENCE:3
DTSTAMP:20260420T072250Z
URL:http://nibca-dev.memberzone.com/events/details/professional-women-in-building-meeting-1260
END:VEVENT

END:VCALENDAR
