BEGIN:VCALENDAR
VERSION:2.0
PRODID:-//ChamberMaster//Event Calendar 2.0//EN
METHOD:PUBLISH
X-PUBLISHED-TTL:P3D
REFRESH-INTERVAL:P3D
CALSCALE:GREGORIAN
BEGIN:VEVENT
DTSTART:20180907T190000Z
DTEND:20180907T200000Z
X-MICROSOFT-CDO-ALLDAYEVENT:FALSE
SUMMARY:Professional Women in Building Meeting
DESCRIPTION:PWB GMM Meeting
X-ALT-DESC;FMTTYPE=text/html:PWB GMM Meeting&nbsp\;&nbsp\;&nbsp\;&nbsp\;
LOCATION:NIBCA 1928 N 4TH St
UID:e.9298.1238
SEQUENCE:3
DTSTAMP:20260420T135929Z
URL:http://nibca-dev.memberzone.com/events/details/professional-women-in-building-meeting-09-07-2018-1238
END:VEVENT

END:VCALENDAR
