BEGIN:VCALENDAR
VERSION:2.0
PRODID:-//ChamberMaster//Event Calendar 2.0//EN
METHOD:PUBLISH
X-PUBLISHED-TTL:P3D
REFRESH-INTERVAL:P3D
CALSCALE:GREGORIAN
BEGIN:VEVENT
DTSTART:20190207T003000Z
DTEND:20190207T013000Z
X-MICROSOFT-CDO-ALLDAYEVENT:FALSE
SUMMARY:Professional Women in Building Executive Committee Meeting
DESCRIPTION:No Board meeting in February.
X-ALT-DESC;FMTTYPE=text/html:No Board meeting in February.
LOCATION:Caruso's\, Ironwood Square\, 202 Ironwood Dr # A\, Coeur d'Alene\, ID 8381
UID:e.9298.853
SEQUENCE:3
DTSTAMP:20260420T035836Z
URL:http://nibca-dev.memberzone.com/events/details/professional-women-in-building-executive-committee-meeting-02-06-2019-853
END:VEVENT

END:VCALENDAR
