BEGIN:VCALENDAR
VERSION:2.0
PRODID:-//ChamberMaster//Event Calendar 2.0//EN
METHOD:PUBLISH
X-PUBLISHED-TTL:P3D
REFRESH-INTERVAL:P3D
CALSCALE:GREGORIAN
BEGIN:VEVENT
DTSTART:20181009T190000Z
DTEND:20181009T200000Z
X-MICROSOFT-CDO-ALLDAYEVENT:FALSE
SUMMARY:Professional Women in Building Meeting
DESCRIPTION:
X-ALT-DESC;FMTTYPE=text/html:
LOCATION:Coeur d Alene\, ID 83814
UID:e.9298.1057
SEQUENCE:3
DTSTAMP:20260420T105148Z
URL:http://nibca-dev.memberzone.com/events/details/professional-women-in-building-committee-meeting-10-09-2018-1057
END:VEVENT

END:VCALENDAR
