BEGIN:VCALENDAR
VERSION:2.0
PRODID:-//ChamberMaster//Event Calendar 2.0//EN
METHOD:PUBLISH
X-PUBLISHED-TTL:P3D
REFRESH-INTERVAL:P3D
CALSCALE:GREGORIAN
BEGIN:VEVENT
DTSTART:20180309T200000Z
DTEND:20180309T210000Z
X-MICROSOFT-CDO-ALLDAYEVENT:FALSE
SUMMARY:Professional Women in Building Committee Meeting
DESCRIPTION:
X-ALT-DESC;FMTTYPE=text/html:
LOCATION:The Fedora 1726 Kathleen Ave Coeur d Alene\, ID 83814
UID:e.9298.1050
SEQUENCE:3
DTSTAMP:20260421T035558Z
URL:http://nibca-dev.memberzone.com/events/details/professional-women-in-building-committee-meeting-03-13-2018-1050
END:VEVENT

END:VCALENDAR
