BEGIN:VCALENDAR
VERSION:2.0
PRODID:-//ChamberMaster//Event Calendar 2.0//EN
METHOD:PUBLISH
X-PUBLISHED-TTL:P3D
REFRESH-INTERVAL:P3D
CALSCALE:GREGORIAN
BEGIN:VEVENT
DTSTART:20190208T200000Z
DTEND:20190208T210000Z
X-MICROSOFT-CDO-ALLDAYEVENT:FALSE
SUMMARY:Professional Women in Building Meeting
DESCRIPTION:General Membership Meeting\n\nFind out what is coming up for PWB
X-ALT-DESC;FMTTYPE=text/html:<span style="font-size:14px\;">General Membership Meeting<br />\nFind out what is coming up for PWB</span>
LOCATION:Coeur d Alene RESORT Lunch Club Board Room 7th floor
UID:e.9298.1064
SEQUENCE:3
DTSTAMP:20260420T021103Z
URL:http://nibca-dev.memberzone.com/events/details/professional-women-in-building-committee-meeting-02-08-2019-1064
END:VEVENT

END:VCALENDAR
