BEGIN:VCALENDAR
VERSION:2.0
PRODID:-//ChamberMaster//Event Calendar 2.0//EN
METHOD:PUBLISH
X-PUBLISHED-TTL:P3D
REFRESH-INTERVAL:P3D
CALSCALE:GREGORIAN
BEGIN:VEVENT
DTSTART:20190111T200000Z
DTEND:20190111T210000Z
X-MICROSOFT-CDO-ALLDAYEVENT:FALSE
SUMMARY:Professional Women in Building Meeting
DESCRIPTION:Professional Women in Building General Membership Meeting.
X-ALT-DESC;FMTTYPE=text/html:Professional Women in Building General Membership Meeting.
LOCATION:Best Western\, CDA Inn 506 West Appleway Coeur d Alene\, ID 83814
UID:e.9298.1062
SEQUENCE:3
DTSTAMP:20260420T055318Z
URL:http://nibca-dev.memberzone.com/events/details/professional-women-in-building-committee-meeting-01-11-2019-1062
END:VEVENT

END:VCALENDAR
