BEGIN:VCALENDAR
VERSION:2.0
PRODID:-//ChamberMaster//Event Calendar 2.0//EN
METHOD:PUBLISH
X-PUBLISHED-TTL:P3D
REFRESH-INTERVAL:P3D
CALSCALE:GREGORIAN
BEGIN:VEVENT
DTSTART:20151209T193000Z
DTEND:20151209T210000Z
X-MICROSOFT-CDO-ALLDAYEVENT:FALSE
SUMMARY:Pro-Active Tax Planning Seminar
DESCRIPTION:STOP Overpaying Your Taxes!  Are you paying too much income tax?  Learn the 11 ways entrepreneurs overpay and how to stop it now.\n\n\n\nClick Here to download the flyer with more information about this seminar.
X-ALT-DESC;FMTTYPE=text/html:<span style="language: en-US\;"><span style="font-size: 14pt\;"><span style="font-family: footlight mt light\;">STOP Overpaying Your Taxes!&nbsp\; Are you paying too much income tax?&nbsp\; Learn the 11 ways entrepreneurs overpay and how to stop it now.</span></span></span><br />\n<br />\n<font face="Footlight MT Light" size="5"><a href="http://cloud.chambermaster.com/userfiles/UserFiles/chambers/9298/File/ProactiveTaxPlanningFlyer-12-09-15.pdf"><span style="color: rgb(255\, 0\, 0)\;">Click Here</span></a> to download the flyer with more information about this seminar.</font>
LOCATION:NIBCA Office 1928 North 4th Street Coeur d'Alene\, ID 83814
UID:e.9298.500
SEQUENCE:3
DTSTAMP:20260423T211428Z
URL:http://nibca-dev.memberzone.com/events/details/pro-active-tax-planning-seminar-12-09-2015-500
END:VEVENT

END:VCALENDAR
