BEGIN:VCALENDAR
VERSION:2.0
PRODID:-//ChamberMaster//Event Calendar 2.0//EN
METHOD:PUBLISH
X-PUBLISHED-TTL:P3D
REFRESH-INTERVAL:P3D
CALSCALE:GREGORIAN
BEGIN:VEVENT
DTSTART:20180912T230000Z
DTEND:20180913T000000Z
X-MICROSOFT-CDO-ALLDAYEVENT:FALSE
SUMMARY:Parade of Homes Admissions Meeting
DESCRIPTION:Anyone doing Admissions at a Parade of Homes should attend this meeting.  We will go over the ticketing and web site applications.
X-ALT-DESC;FMTTYPE=text/html:Anyone doing Admissions at a Parade of Homes should attend this meeting.&nbsp\; We will go over the ticketing and web site applications.&nbsp\;&nbsp\;
LOCATION:NIBCA 1928 N 4th St Coeur d Alene
UID:e.9298.1241
SEQUENCE:3
DTSTAMP:20260420T135939Z
URL:http://nibca-dev.memberzone.com/events/details/parade-of-homes-admissions-meeting-1241
END:VEVENT

END:VCALENDAR
