BEGIN:VCALENDAR
VERSION:2.0
PRODID:-//ChamberMaster//Event Calendar 2.0//EN
METHOD:PUBLISH
X-PUBLISHED-TTL:P3D
REFRESH-INTERVAL:P3D
CALSCALE:GREGORIAN
BEGIN:VEVENT
DTSTART:20151205T003000Z
DTEND:20151205T020000Z
X-MICROSOFT-CDO-ALLDAYEVENT:FALSE
SUMMARY:NIBCA Spike Social Hour
DESCRIPTION:This is an exclusive event for NIBCA Spike Members only. Click here to download the event flyer with more information.
X-ALT-DESC;FMTTYPE=text/html:This is an exclusive event for NIBCA Spike Members only.&nbsp\;<a href="http://cloud.chambermaster.com/userfiles/UserFiles/chambers/9298/File/2015NIBCASpikeSocialHourInvitation.pdf">Click here</a> to&nbsp\;download the&nbsp\;event flyer with more information.&nbsp\;
LOCATION:Coeur d'Alene Resort\, 7th Floor Boardroom
UID:e.9298.506
SEQUENCE:3
DTSTAMP:20260423T211359Z
URL:http://nibca-dev.memberzone.com/events/details/nibca-spike-social-hour-12-04-2015-506
END:VEVENT

END:VCALENDAR
