BEGIN:VCALENDAR
VERSION:2.0
PRODID:-//ChamberMaster//Event Calendar 2.0//EN
METHOD:PUBLISH
X-PUBLISHED-TTL:P3D
REFRESH-INTERVAL:P3D
CALSCALE:GREGORIAN
BEGIN:VEVENT
DTSTART:20160315T230000Z
DTEND:20160316T000000Z
X-MICROSOFT-CDO-ALLDAYEVENT:FALSE
SUMMARY:NIBCA Public Relations Committee Meeting
DESCRIPTION:Click here to download the agenda and supporting documents for the meeting.\n\n\n\nPlease print off what you need or notify the NIBCA staff if you would like us to have copies available for you.
X-ALT-DESC;FMTTYPE=text/html:<u><a href="https://chambermaster.blob.core.windows.net/userfiles/UserFiles/chambers/9298/File/Public_Relations/NIBCAPublicRelationsAgenda3-15-16.pdf"><span style="color:#0000FF\;">Click here</span></a></u> to download the agenda and supporting documents for the meeting.<br />\n<br />\nPlease print off what you need or notify the NIBCA staff if you would like us to have copies available for you.
LOCATION:NIBCA Office: 1928 N 4th St. Coeur d'Alene\, ID 83814
UID:e.9298.557
SEQUENCE:3
DTSTAMP:20260423T175540Z
URL:http://nibca-dev.memberzone.com/events/details/nibca-public-relations-committee-meeting-03-15-2016-557
END:VEVENT

END:VCALENDAR
