BEGIN:VCALENDAR
VERSION:2.0
PRODID:-//ChamberMaster//Event Calendar 2.0//EN
METHOD:PUBLISH
X-PUBLISHED-TTL:P3D
REFRESH-INTERVAL:P3D
CALSCALE:GREGORIAN
BEGIN:VEVENT
DTSTART:20180915T000000Z
DTEND:20180915T050000Z
X-MICROSOFT-CDO-ALLDAYEVENT:FALSE
SUMMARY:NIBCA Parade of Homes Night of Awards
DESCRIPTION:SOLD OUT\n\nJoin us on Friday\, September 14 th as we recognize our 2018 Parade of Homes BUILDERS with awards and prizes in all judging categories. You can also get the first sneak peak of the homes that will be in the show the following weekend.
X-ALT-DESC;FMTTYPE=text/html:<span style="font-size:24px\;"><u><em><strong>SOLD OUT</strong></em></u></span><br />\nJoin us on Friday\, September 14&nbsp\;<span style="line-height: 20.8px\;">th</span><span style="line-height: 20.8px\;">&nbsp\;as we&nbsp\;</span>recognize our 2018 Parade of Homes BUILDERS with awards and prizes in all judging categories. You can also get the first sneak peak of the homes that will be in the show the following weekend.
LOCATION:Hayden Lake Country Club: 2362 E. Bozanta Drive Hayden Lake\, ID 83835
UID:e.9298.1239
SEQUENCE:3
DTSTAMP:20260420T154905Z
URL:http://nibca-dev.memberzone.com/events/details/nibca-parade-of-homes-night-of-awards-1239
END:VEVENT

END:VCALENDAR
