BEGIN:VCALENDAR
VERSION:2.0
PRODID:-//ChamberMaster//Event Calendar 2.0//EN
METHOD:PUBLISH
X-PUBLISHED-TTL:P3D
REFRESH-INTERVAL:P3D
CALSCALE:GREGORIAN
BEGIN:VEVENT
DTSTART:20180921T190000Z
DTEND:20180923T190000Z
X-MICROSOFT-CDO-ALLDAYEVENT:FALSE
SUMMARY:NIBCA Parade of Homes 2018
DESCRIPTION:2018 NIBCA Parade of Homes
X-ALT-DESC;FMTTYPE=text/html:2018 NIBCA Parade of Homes
LOCATION:
UID:e.9298.1038
SEQUENCE:3
DTSTAMP:20260420T135938Z
URL:http://nibca-dev.memberzone.com/events/details/nibca-parade-of-homes-2018-09-22-2018-1038
END:VEVENT

END:VCALENDAR
