BEGIN:VCALENDAR
VERSION:2.0
PRODID:-//ChamberMaster//Event Calendar 2.0//EN
METHOD:PUBLISH
X-PUBLISHED-TTL:P3D
REFRESH-INTERVAL:P3D
CALSCALE:GREGORIAN
BEGIN:VEVENT
DTSTART;VALUE=DATE:20181224
DTEND;VALUE=DATE:20181226
TRANSP:TRANSPARENT
X-MICROSOFT-CDO-ALLDAYEVENT:TRUE
SUMMARY:NIBCA Office Closed for the Holiday
DESCRIPTION:Have a Wonderfull Christmas\n\n\n\nMay joy and happiness be yours in the new year.
X-ALT-DESC;FMTTYPE=text/html:Have a Wonderfull Christmas<br />\n<br />\nMay joy and happiness be yours in the new year.
LOCATION:
UID:e.9298.1330
SEQUENCE:3
DTSTAMP:20260420T054929Z
URL:http://nibca-dev.memberzone.com/events/details/nibca-office-closed-for-the-holiday-1330
END:VEVENT

END:VCALENDAR
