BEGIN:VCALENDAR
VERSION:2.0
PRODID:-//ChamberMaster//Event Calendar 2.0//EN
METHOD:PUBLISH
X-PUBLISHED-TTL:P3D
REFRESH-INTERVAL:P3D
CALSCALE:GREGORIAN
BEGIN:VEVENT
DTSTART:20160107T000000Z
DTEND:20160107T011500Z
X-MICROSOFT-CDO-ALLDAYEVENT:FALSE
SUMMARY:NIBCA Home & Garden Show Committee Meeting
DESCRIPTION:NIBCA Home & Garden Committee meeting scheduled for this Wednesday\, January 6th\, at 4:00 pm at the NIBCA office.\n\nClick here to download the agenda.  Click here to download the minutes from the last meeting.
X-ALT-DESC;FMTTYPE=text/html:<span style="line-height: 20.8px\;">NIBCA Home &amp\; Garden Committee meeting scheduled for this Wednesday\, January 6th\, at 4:00 pm at the NIBCA office.</span><br style="line-height: 20.8px\;" />\n<span style="line-height: 20.8px\;"><a href="http://cloud.chambermaster.com/userfiles/UserFiles/chambers/9298/File/2016-1-6HomeGardenCommitteeMeetingAgenda.pdf">Click here</a> to download the agenda. &nbsp\;<a href="http://cloud.chambermaster.com/userfiles/UserFiles/chambers/9298/File/2012-12-16HomeGardenCommitteeMeetingMINUTES.pdf">Click here</a> to download the minutes from the last meeting.</span>
LOCATION:NIBCA Office: 1928 N. 4th Street Coeur d'Alene\, ID 83814
UID:e.9298.523
SEQUENCE:3
DTSTAMP:20260423T211835Z
URL:http://nibca-dev.memberzone.com/events/details/nibca-home-garden-show-committee-meeting-01-06-2016-523
END:VEVENT

END:VCALENDAR
