BEGIN:VCALENDAR
VERSION:2.0
PRODID:-//ChamberMaster//Event Calendar 2.0//EN
METHOD:PUBLISH
X-PUBLISHED-TTL:P3D
REFRESH-INTERVAL:P3D
CALSCALE:GREGORIAN
BEGIN:VEVENT
DTSTART;VALUE=DATE:20160304
DTEND;VALUE=DATE:20160307
TRANSP:TRANSPARENT
X-MICROSOFT-CDO-ALLDAYEVENT:TRUE
SUMMARY:NIBCA Home and Garden Event
DESCRIPTION:Join us for Coeur d'Alene's most anticipated Home & Garden Show - Where fresh ideas abound!  You've got a project\, we've got answers! See you there!\n\n\n\nClick here to see the updated list of vendors participating in the show.
X-ALT-DESC;FMTTYPE=text/html:<span style="color:#0000CD\;">Join us for Coeur d&#39\;Alene&#39\;s most anticipated Home &amp\; Garden Show - Where fresh ideas abound! &nbsp\;You&#39\;ve got a project\, we&#39\;ve got answers! See you there!</span><br />\n<br />\n<u><strong><span style="font-size:14px\;"><a href="https://chambermaster.blob.core.windows.net/userfiles/UserFiles/chambers/9298/File/2016_Home_Garden/NIBCA2016HomeGardenVendorMap2.pdf">Click here</a></span></strong></u><span style="color:#0000CD\;"><span style="font-size:14px\;"><strong>&nbsp\;to see the updated list of vendors participating in the show.</strong></span></span><br />\n<br />\n&nbsp\;
LOCATION:Kootenai County Fairgrounds: 4056 North Government Way Coeur d'Alene\, ID 83815 Enter through Gate B
UID:e.9298.505
SEQUENCE:3
DTSTAMP:20260423T175441Z
URL:http://nibca-dev.memberzone.com/events/details/nibca-home-and-garden-event-03-04-2016-505
END:VEVENT

END:VCALENDAR
