BEGIN:VCALENDAR
VERSION:2.0
PRODID:-//ChamberMaster//Event Calendar 2.0//EN
METHOD:PUBLISH
X-PUBLISHED-TTL:P3D
REFRESH-INTERVAL:P3D
CALSCALE:GREGORIAN
BEGIN:VEVENT
DTSTART:20160128T010000Z
DTEND:20160128T030000Z
X-MICROSOFT-CDO-ALLDAYEVENT:FALSE
SUMMARY:NIBCA General Membership Meeting and Installation of Officers
DESCRIPTION:Please register now to join us for the NIBCA January 2016 General Membership Meeting where we will eat\, drink\, network\, and install the newly elected 2016 Board of Directors.\n\n\n\nClick here to download a flyer with more information
X-ALT-DESC;FMTTYPE=text/html:Please register now to join us for the NIBCA January 2016 General Membership Meeting where we will eat\, drink\, network\, and install the newly elected 2016 Board of Directors.<br />\n<br />\n<u><a href="http://cloud.chambermaster.com/userfiles/UserFiles/chambers/9298/File/GMM/NIBCAJan2016GMMFlyer.pdf"><span style="color:#0000FF\;">Click here</span></a></u> to download a flyer with more information
LOCATION:Best Western Plus Coeur d'Alene Inn
UID:e.9298.513
SEQUENCE:3
DTSTAMP:20260423T194923Z
URL:http://nibca-dev.memberzone.com/events/details/nibca-general-membership-meeting-and-installation-of-officers-01-27-2016-513
END:VEVENT

END:VCALENDAR
