BEGIN:VCALENDAR
VERSION:2.0
PRODID:-//ChamberMaster//Event Calendar 2.0//EN
METHOD:PUBLISH
X-PUBLISHED-TTL:P3D
REFRESH-INTERVAL:P3D
CALSCALE:GREGORIAN
BEGIN:VEVENT
DTSTART:20160218T010000Z
DTEND:20160218T030000Z
X-MICROSOFT-CDO-ALLDAYEVENT:FALSE
SUMMARY:NIBCA February General Membership Meeting
DESCRIPTION:Enjoy a presentation by International business speaker and certified professional facilitator\, Patrick McGaughey\, CPF.  Pat is just returning from the International Builder's Show in Las Vegas where he addressed members and executive officers of HBA's from around the world.  Pat is the past president and CEO of the Coeur d'Alene Chamber of Commerce and has been a regular faculty member for the United States Chamber of Commerce Institute for Organization Management.\n\n\n\nClick here to download a registration flyer with more information.
X-ALT-DESC;FMTTYPE=text/html:Enjoy a presentation by International business speaker and certified professional facilitator\, Patrick&nbsp\;McGaughey\, CPF.&nbsp\; Pat is just returning from the International Builder&#39\;s Show in Las Vegas where he addressed members and executive officers of&nbsp\;HBA&#39\;s&nbsp\;from around the world.&nbsp\; Pat is the past president and CEO of the Coeur&nbsp\;d&#39\;Alene&nbsp\;Chamber of Commerce and has been a regular faculty member for the United States Chamber of Commerce Institute for Organization Management.<br />\n<br />\n<a href="https://chambermaster.blob.core.windows.net/userfiles/UserFiles/chambers/9298/File/GMM/Feb2016NIBCAGMMFlyer.pdf"><span style="color:#0000FF\;">Click here</span></a> to download a registration flyer with more information.
LOCATION:Best Western Plus Coeur d'Alene Inn 506 West Appleway Avenue\, Coeur d'Alene\, ID 83814
UID:e.9298.516
SEQUENCE:3
DTSTAMP:20260423T181222Z
URL:http://nibca-dev.memberzone.com/events/details/nibca-february-general-membership-meeting-02-17-2016-516
END:VEVENT

END:VCALENDAR
