BEGIN:VCALENDAR
VERSION:2.0
PRODID:-//ChamberMaster//Event Calendar 2.0//EN
METHOD:PUBLISH
X-PUBLISHED-TTL:P3D
REFRESH-INTERVAL:P3D
CALSCALE:GREGORIAN
BEGIN:VEVENT
DTSTART:20160115T153000Z
DTEND:20160115T210000Z
X-MICROSOFT-CDO-ALLDAYEVENT:FALSE
SUMMARY:NIBCA Board of Directors Strategic Planning Meeting
DESCRIPTION:Chris Driver\,  Affiliate Services Consultant from NAHB will be facilitating the strategic planning session for NIBCA.  Click here for an invitational flyer with more information.\n\nThe regular Jan. Board meeting will take place with a working breakfast from 7:30 to 8:15 am.  PLEASE RSVP TO ENSURE WE HAVE A QUORUM AND TO PLAN FOR FOOD.
X-ALT-DESC;FMTTYPE=text/html:<span style="color:#000000\;">Chris Driver\, <span style="font-family: arial\, sans-serif\; font-size: small\; line-height: 18.2px\;">&nbsp\;Affiliate Services Consultant</span>&nbsp\;fro</span>m NAHB will be facilitating the strategic planning session for NIBCA. &nbsp\;<u><a href="http://cloud.chambermaster.com/userfiles/UserFiles/chambers/9298/File/Board_of_Directors_Meetings/Jan152016StrategicPlanInviteFlyer.pdf"><span style="color:#0000FF\;">Click here</span></a></u> for an invitational flyer with more information.<br />\nThe regular Jan. Board meeting will take place with a working breakfast from 7:30 to 8:15 am. &nbsp\;PLEASE RSVP TO ENSURE WE HAVE A QUORUM AND TO PLAN FOR FOOD.
LOCATION:NIBCA Office 1928 North 4th Street Coeur d'Alene\, ID 83814
UID:e.9298.254
SEQUENCE:3
DTSTAMP:20260423T211835Z
URL:http://nibca-dev.memberzone.com/events/details/nibca-board-of-directors-strategic-planning-meeting-01-15-2016-254
END:VEVENT

END:VCALENDAR
