BEGIN:VCALENDAR
VERSION:2.0
PRODID:-//ChamberMaster//Event Calendar 2.0//EN
METHOD:PUBLISH
X-PUBLISHED-TTL:P3D
REFRESH-INTERVAL:P3D
CALSCALE:GREGORIAN
BEGIN:VEVENT
DTSTART:20181214T000000Z
DTEND:20181214T020000Z
X-MICROSOFT-CDO-ALLDAYEVENT:FALSE
SUMMARY:NIBCA Board of Directors Meeting
DESCRIPTION:Last meeeting of 2018.  Join us for a short meeting followed by a social.
X-ALT-DESC;FMTTYPE=text/html:Last meeeting of 2018.&nbsp\; Join us for a short meeting followed by a social.
LOCATION:Greenbriar Inn 315 Wallace Ave Coeur d'Alene\, ID 83814
UID:e.9298.289
SEQUENCE:3
DTSTAMP:20260420T072817Z
URL:http://nibca-dev.memberzone.com/events/details/nibca-board-of-directors-meeting-12-13-2018-289
END:VEVENT

END:VCALENDAR
