BEGIN:VCALENDAR
VERSION:2.0
PRODID:-//ChamberMaster//Event Calendar 2.0//EN
METHOD:PUBLISH
X-PUBLISHED-TTL:P3D
REFRESH-INTERVAL:P3D
CALSCALE:GREGORIAN
BEGIN:VEVENT
DTSTART:20190418T223000Z
DTEND:20190419T000000Z
X-MICROSOFT-CDO-ALLDAYEVENT:FALSE
SUMMARY:NIBCA Board of Directors Meeting
DESCRIPTION:Monthly Board of Directors Meeting.\n\nApril meeting is one week later.  April 18th
X-ALT-DESC;FMTTYPE=text/html:Monthly Board of Directors Meeting.<br />\n<span style="font-size:20px\;"><u><strong>April meeting is one week later.&nbsp\; April 18th</strong></u></span>
LOCATION:NIBCA Office 1928 North 4th Street Coeur d'Alene\, ID 83814
UID:e.9298.293
SEQUENCE:3
DTSTAMP:20260419T222451Z
URL:http://nibca-dev.memberzone.com/events/details/nibca-board-of-directors-meeting-04-11-2019-293
END:VEVENT

END:VCALENDAR
