BEGIN:VCALENDAR
VERSION:2.0
PRODID:-//ChamberMaster//Event Calendar 2.0//EN
METHOD:PUBLISH
X-PUBLISHED-TTL:P3D
REFRESH-INTERVAL:P3D
CALSCALE:GREGORIAN
BEGIN:VEVENT
DTSTART:20160226T000000Z
DTEND:20160226T013000Z
X-MICROSOFT-CDO-ALLDAYEVENT:FALSE
SUMMARY:NIBCA Associates Council Meeting
DESCRIPTION:NIBCA Associates Council Meeting
X-ALT-DESC;FMTTYPE=text/html:NIBCA Associates Council Meeting
LOCATION:Thai Bamboo - 2010 N 4th St\, Coeur d'Alene\, ID 83814
UID:e.9298.561
SEQUENCE:3
DTSTAMP:20260423T181216Z
URL:http://nibca-dev.memberzone.com/events/details/nibca-associates-council-meeting-02-25-2016-561
END:VEVENT

END:VCALENDAR
