BEGIN:VCALENDAR
VERSION:2.0
PRODID:-//ChamberMaster//Event Calendar 2.0//EN
METHOD:PUBLISH
X-PUBLISHED-TTL:P3D
REFRESH-INTERVAL:P3D
CALSCALE:GREGORIAN
BEGIN:VEVENT
DTSTART:20160129T000000Z
DTEND:20160129T013000Z
X-MICROSOFT-CDO-ALLDAYEVENT:FALSE
SUMMARY:NIBCA Associates Council Meeting
DESCRIPTION:
X-ALT-DESC;FMTTYPE=text/html:
LOCATION:NIBCA Office: 1928 North 4th Street\, Coeur d'Alene\, ID 83814
UID:e.9298.526
SEQUENCE:3
DTSTAMP:20260423T194352Z
URL:http://nibca-dev.memberzone.com/events/details/nibca-associates-council-meeting-01-28-2016-526
END:VEVENT

END:VCALENDAR
