BEGIN:VCALENDAR
VERSION:2.0
PRODID:-//ChamberMaster//Event Calendar 2.0//EN
METHOD:PUBLISH
X-PUBLISHED-TTL:P3D
REFRESH-INTERVAL:P3D
CALSCALE:GREGORIAN
BEGIN:VEVENT
DTSTART:20190411T140000Z
DTEND:20190413T000000Z
X-MICROSOFT-CDO-ALLDAYEVENT:FALSE
SUMMARY:NIBCA and Home Depot Presents our 1st Annual Construction Combine
DESCRIPTION:NIBCA and Home Depot are teaming up for a 2-day event to introduce the building industry trades to local students.  Idaho State University designed the Construction Combine Event and hopes to have similar events through out Idaho in 2019.  The event will be at KTEC facility April 11th and 12th 2019.\n\n\n\nStudents from Coeur D' Alene\, Post Falls\, and Lakeland School Districts will have the opportunity to learn from local professionals about plumbing\, electrical\, framing\, roofing\, concrete\, drywall\, siding and masonary trades.  The event starts with a safety training and then continues with the students spending one-hour learning from each of the professionals about their trade.\n\n\n\nThe second day\, studens use what they learned the first day to construct 8'X10' sheds.  The sheds will be donated to local veterans.\n\n\n\nThe demand for homes in our area continues to grow.  The NIBCA and Home Depot recognize the need for a strong workforce in our area to keep up with the housing demands. \n\n\n\nFor more information about the event or registering a student\, contact us at info@nibca.com or call 208-765-5518.
X-ALT-DESC;FMTTYPE=text/html:NIBCA and Home Depot are teaming up for a 2-day event to introduce the building industry trades to local students.&nbsp\; Idaho State University designed the Construction Combine Event and hopes to have similar events through out Idaho in 2019.&nbsp\; The event will be at KTEC facility April 11th and 12th 2019.<br />\n<br />\nStudents from Coeur D&#39\; Alene\, Post Falls\, and Lakeland School Districts will have the opportunity to learn from local professionals about plumbing\, electrical\, framing\, roofing\, concrete\, drywall\, siding and masonary trades.&nbsp\; The event starts with a safety training and then continues with the students spending one-hour learning from each of the professionals about their trade.<br />\n<br />\nThe second day\, studens use what they learned the first day to construct 8&#39\;X10&#39\; sheds.&nbsp\; The sheds will be donated to local veterans.<br />\n<br />\nThe demand for homes in our area continues to grow.&nbsp\; The NIBCA and Home Depot recognize the need for a strong workforce in our area to keep up with the housing demands.&nbsp\;<br />\n<br />\nFor more information about the event or registering a student\, contact us at info@nibca.com or call 208-765-5518.&nbsp\;<br />\n&nbsp\;&nbsp\;
LOCATION:KTEC- Rathdrum 6838 W Lancaster Rd Rathdrum\, ID 83858
UID:e.9298.1376
SEQUENCE:3
DTSTAMP:20260419T222452Z
URL:http://nibca-dev.memberzone.com/events/details/nibca-and-home-depot-presents-our-1st-annual-construction-combine-1376
END:VEVENT

END:VCALENDAR
