BEGIN:VCALENDAR
VERSION:2.0
PRODID:-//ChamberMaster//Event Calendar 2.0//EN
METHOD:PUBLISH
X-PUBLISHED-TTL:P3D
REFRESH-INTERVAL:P3D
CALSCALE:GREGORIAN
BEGIN:VEVENT
DTSTART:20160204T000000Z
DTEND:20160204T010000Z
X-MICROSOFT-CDO-ALLDAYEVENT:FALSE
SUMMARY:NIBCA 2016 Home & Garden Committee Meeting
DESCRIPTION:Please join us for the NIBCA 2016 Home & Garden Committee Meeting
X-ALT-DESC;FMTTYPE=text/html:Please join us for the NIBCA 2016 Home &amp\; Garden Committee Meeting&nbsp\;&nbsp\;&nbsp\;&nbsp\;
LOCATION:NIBCA Office\, 1928 North 4th Street\, Coeur d'Alene\, ID 83814
UID:e.9298.552
SEQUENCE:3
DTSTAMP:20260423T194616Z
URL:http://nibca-dev.memberzone.com/events/details/nibca-2016-home-garden-committee-meeting-02-03-2016-552
END:VEVENT

END:VCALENDAR
