BEGIN:VCALENDAR
VERSION:2.0
PRODID:-//ChamberMaster//Event Calendar 2.0//EN
METHOD:PUBLISH
X-PUBLISHED-TTL:P3D
REFRESH-INTERVAL:P3D
CALSCALE:GREGORIAN
BEGIN:VEVENT
DTSTART:20181101T233000Z
DTEND:20181102T033000Z
X-MICROSOFT-CDO-ALLDAYEVENT:FALSE
SUMMARY:NIBCA 10th Annual Gone Wild
DESCRIPTION:We have a limited number of tables available for the 10th Annual Gone Wild\n\nGet your reservations in to save a table.\n\nClick here for information
X-ALT-DESC;FMTTYPE=text/html:<span style="font-size:14px\;"><strong>We have a limited number of tables available for the 10th Annual Gone Wild</strong></span><br />\nGet your reservations in to save a table.<br />\n<a href="https://chambermaster.blob.core.windows.net/userfiles/UserFiles/chambers/9298/File/flyer.docx">Click here for information</a>
LOCATION:Best Western Plus\, Coeur D' Alene Inn 506 W Appleway Ave Coeur D' Alene
UID:e.9298.1251
SEQUENCE:3
DTSTAMP:20260420T072523Z
URL:http://nibca-dev.memberzone.com/events/details/nibca-10th-annual-gone-wild-1251
END:VEVENT

END:VCALENDAR
