BEGIN:VCALENDAR
VERSION:2.0
PRODID:-//ChamberMaster//Event Calendar 2.0//EN
METHOD:PUBLISH
X-PUBLISHED-TTL:P3D
REFRESH-INTERVAL:P3D
CALSCALE:GREGORIAN
BEGIN:VEVENT
DTSTART;VALUE=DATE:20190101
DTEND;VALUE=DATE:20190102
TRANSP:TRANSPARENT
X-MICROSOFT-CDO-ALLDAYEVENT:TRUE
SUMMARY:New Years Day
DESCRIPTION:Happy New Year.\n\nMay this new year bring Joy and Happiness to you and your loved ones.
X-ALT-DESC;FMTTYPE=text/html:Happy New Year.<br />\nMay this new year bring Joy and Happiness to you and your loved ones.
LOCATION:
UID:e.9298.1331
SEQUENCE:3
DTSTAMP:20260420T035550Z
URL:http://nibca-dev.memberzone.com/events/details/new-years-day-1331
END:VEVENT

END:VCALENDAR
