BEGIN:VCALENDAR
VERSION:2.0
PRODID:-//ChamberMaster//Event Calendar 2.0//EN
METHOD:PUBLISH
X-PUBLISHED-TTL:P3D
REFRESH-INTERVAL:P3D
CALSCALE:GREGORIAN
BEGIN:VEVENT
DTSTART:20190321T000000Z
DTEND:20190321T023000Z
X-MICROSOFT-CDO-ALLDAYEVENT:FALSE
SUMMARY:March General Membership Meeting
DESCRIPTION:March General Mebership Meeting\n\nIntroducing New Life Directors\n\nGuest Speaker: Sam Wolkenhauer with The Department of Labor\n\nSocial Hour: 5-6 pm\n\nDinner: 6-7:30 pm
X-ALT-DESC;FMTTYPE=text/html:March General Mebership Meeting<br />\nIntroducing New Life Directors<br />\nGuest Speaker: Sam Wolkenhauer with The Department of Labor<br />\nSocial Hour: 5-6 pm<br />\nDinner: 6-7:30 pm
LOCATION:Best Western/Coeur D' Alene Inn 506 W Appleway Coeur D' Alene\, ID 83815
UID:e.9298.1365
SEQUENCE:3
DTSTAMP:20260420T001451Z
URL:http://nibca-dev.memberzone.com/events/details/march-general-membership-meeting-1365
END:VEVENT

END:VCALENDAR
