BEGIN:VCALENDAR
VERSION:2.0
PRODID:-//ChamberMaster//Event Calendar 2.0//EN
METHOD:PUBLISH
X-PUBLISHED-TTL:P3D
REFRESH-INTERVAL:P3D
CALSCALE:GREGORIAN
BEGIN:VEVENT
DTSTART;VALUE=DATE:20160119
DTEND;VALUE=DATE:20160122
TRANSP:TRANSPARENT
X-MICROSOFT-CDO-ALLDAYEVENT:TRUE
SUMMARY:International Builders Show
DESCRIPTION:http://buildersshow.com/Home/
X-ALT-DESC;FMTTYPE=text/html:<a href="http://buildersshow.com/Home/">http://buildersshow.com/Home/</a>
LOCATION:Las Vegas\, Nevada
UID:e.9298.514
SEQUENCE:3
DTSTAMP:20260423T211428Z
URL:http://nibca-dev.memberzone.com/events/details/international-builders-show-01-19-2016-514
END:VEVENT

END:VCALENDAR
