BEGIN:VCALENDAR
VERSION:2.0
PRODID:-//ChamberMaster//Event Calendar 2.0//EN
METHOD:PUBLISH
X-PUBLISHED-TTL:P3D
REFRESH-INTERVAL:P3D
CALSCALE:GREGORIAN
BEGIN:VEVENT
DTSTART;VALUE=DATE:20160210
DTEND;VALUE=DATE:20160213
TRANSP:TRANSPARENT
X-MICROSOFT-CDO-ALLDAYEVENT:TRUE
SUMMARY:Idaho Building Contractors Association Winter Boards
DESCRIPTION:Click here to download the Meeting Registration Form\n\nWinter Board/Annual Meeting Agenda (Draft)\n\nRed Lion Downtowner\n\n \n\nWednesday\, Feb.10\, 2016\n\n12:00 - 1:30 p.m.          Executive Committee Lunch\n\n1:30 - 2:30 p.m             Membership/Spike\n\n2:30 - 3:00 p.m.            Idaho State Tax Commission Presentation Leah Parsons\n\n3:00 -4:00 p.m.             Associates\n\n3:00 - 4:00 p.m             Past Presidents\n\n4:00 - 4:30 p.m.            Annual Mtg of the Members\n\n4:30 -5:30 p.m.             Local Presidents\n\n                               \n\nThursday\, Feb.11\, 2016\n\n7:30 - 9:30 a.m.           Breakfast\n\n8:30 - 9:30 a.m.           Local EO's\n\n9:30 - 10:30 a.m          HomePAC\n\n10:30 - 11:30 p.m.       Legislative\n\n12:00 - 2:00 p.m.         Legislative Lunches\n\n2:00 - 3:00 p.m.           Social Media Presentation Jeff Martel\n\n3:00 - 4:00 p.m.           LDF\n\n4:00 - 5:00 p.m.           Past Presidents\n\n5:00 p.m.                    Installation Reception\n\n6:00 p.m.                    Installation Dinner\n\n \n\nFriday\, Feb 12\, 2016\n\n7:30 - 9:30 a.m.           Breakfast\n\n8:30- 9:30 a.m.            RMB\n\n10:00 - 12:00 p.m.       Old /New Board
X-ALT-DESC;FMTTYPE=text/html:<a href="https://chambermaster.blob.core.windows.net/userfiles/UserFiles/chambers/9298/File/WinterBoardRegistration1.pdf">Click here</a>&nbsp\;to download the Meeting Registration Form<br />\nWinter Board/Annual Meeting Agenda (Draft)<br />\nRed Lion Downtowner<br />\n&#8203\;<br />\n<strong>Wednesday\, Feb.10\, 2016</strong><br />\n12:00 - 1:30 p.m.&nbsp\;&nbsp\;&nbsp\;&nbsp\;&nbsp\;&nbsp\;&nbsp\;&nbsp\;&nbsp\; Executive Committee Lunch<br />\n1:30 - 2:30 p.m &nbsp\; &nbsp\; &nbsp\; &nbsp\; &nbsp\; &nbsp\; Membership/Spike<br />\n2:30 - 3:00 p.m.&nbsp\;&nbsp\;&nbsp\;&nbsp\;&nbsp\;&nbsp\;&nbsp\;&nbsp\;&nbsp\;&nbsp\;&nbsp\; Idaho State Tax Commission Presentation Leah Parsons<br />\n3:00 -4:00 p.m.&nbsp\;&nbsp\;&nbsp\;&nbsp\;&nbsp\;&nbsp\;&nbsp\;&nbsp\;&nbsp\;&nbsp\;&nbsp\;&nbsp\; Associates<br />\n3:00 - 4:00 p.m &nbsp\; &nbsp\; &nbsp\; &nbsp\; &nbsp\; &nbsp\; Past Presidents<br />\n4:00 - 4:30 p.m.&nbsp\;&nbsp\;&nbsp\;&nbsp\;&nbsp\;&nbsp\;&nbsp\;&nbsp\;&nbsp\;&nbsp\;&nbsp\; Annual Mtg of the Members<br />\n4:30 -5:30 p.m.&nbsp\;&nbsp\;&nbsp\;&nbsp\;&nbsp\;&nbsp\;&nbsp\;&nbsp\;&nbsp\;&nbsp\;&nbsp\;&nbsp\; Local Presidents<br />\n&nbsp\;&nbsp\;&nbsp\;&nbsp\;&nbsp\;&nbsp\;&nbsp\;&nbsp\;&nbsp\;&nbsp\;&nbsp\;&nbsp\;&nbsp\;&nbsp\;&nbsp\;&nbsp\;&nbsp\;&nbsp\;&nbsp\;&nbsp\;&nbsp\;&nbsp\;&nbsp\;&nbsp\;&nbsp\;&nbsp\;&nbsp\;&nbsp\;&nbsp\;&nbsp\;&nbsp\;<br />\n<strong>Thursday\, Feb.11\, 2016</strong><br />\n7:30 - 9:30 a.m. &nbsp\; &nbsp\; &nbsp\; &nbsp\; &nbsp\; Breakfast<br />\n8:30 - 9:30 a.m. &nbsp\; &nbsp\; &nbsp\; &nbsp\; &nbsp\; Local EO&#39\;s<br />\n9:30 - 10:30 a.m &nbsp\;&nbsp\;&nbsp\;&nbsp\;&nbsp\;&nbsp\;&nbsp\;&nbsp\;&nbsp\;HomePAC<br />\n10:30 - 11:30 p.m.&nbsp\;&nbsp\;&nbsp\;&nbsp\;&nbsp\;&nbsp\; Legislative<br />\n12:00 - 2:00 p.m. &nbsp\; &nbsp\; &nbsp\; &nbsp\; Legislative Lunches<br />\n2:00 - 3:00 p.m. &nbsp\; &nbsp\; &nbsp\; &nbsp\; &nbsp\; Social Media Presentation Jeff Martel<br />\n3:00 - 4:00 p.m. &nbsp\; &nbsp\; &nbsp\; &nbsp\; &nbsp\; LDF<br />\n4:00 - 5:00 p.m. &nbsp\; &nbsp\; &nbsp\; &nbsp\; &nbsp\; Past Presidents<br />\n5:00 p.m. &nbsp\; &nbsp\; &nbsp\; &nbsp\; &nbsp\; &nbsp\; &nbsp\; &nbsp\; &nbsp\; &nbsp\;Installation Reception<br />\n6:00 p.m. &nbsp\; &nbsp\; &nbsp\; &nbsp\; &nbsp\; &nbsp\; &nbsp\; &nbsp\; &nbsp\; &nbsp\;Installation Dinner<br />\n&nbsp\;<br />\n<strong>Friday\, Feb 12\, 2016</strong><br />\n7:30 - 9:30 a.m. &nbsp\; &nbsp\; &nbsp\; &nbsp\; &nbsp\; Breakfast<br />\n8:30- 9:30 a.m. &nbsp\; &nbsp\; &nbsp\; &nbsp\; &nbsp\; &nbsp\;RMB<br />\n10:00 - 12:00 p.m.&nbsp\;&nbsp\;&nbsp\;&nbsp\;&nbsp\;&nbsp\; Old /New Board
LOCATION:Red Lion Downtowner 1800 W Fairview Ave\, Boise\, ID 83702
UID:e.9298.518
SEQUENCE:3
DTSTAMP:20260423T181234Z
URL:http://nibca-dev.memberzone.com/events/details/idaho-building-contractors-association-winter-boards-02-10-2016-518
END:VEVENT

END:VCALENDAR
