BEGIN:VCALENDAR
VERSION:2.0
PRODID:-//ChamberMaster//Event Calendar 2.0//EN
METHOD:PUBLISH
X-PUBLISHED-TTL:P3D
REFRESH-INTERVAL:P3D
CALSCALE:GREGORIAN
BEGIN:VEVENT
DTSTART;VALUE=DATE:20190219
DTEND;VALUE=DATE:20190222
TRANSP:TRANSPARENT
X-MICROSOFT-CDO-ALLDAYEVENT:TRUE
SUMMARY:IBS - INTERNATION BUILDERS SHOW
DESCRIPTION:IBS - Internation Builders Show\n\n\n\nbuildersshow.com
X-ALT-DESC;FMTTYPE=text/html:IBS - Internation Builders Show<br />\n<br />\nbuildersshow.com&nbsp\;&nbsp\;&nbsp\;&nbsp\;
LOCATION:Las Vegas\, Nevada
UID:e.9298.1253
SEQUENCE:3
DTSTAMP:20260420T020632Z
URL:http://nibca-dev.memberzone.com/events/details/ibs-internation-builders-show-1253
END:VEVENT

END:VCALENDAR
