BEGIN:VCALENDAR
VERSION:2.0
PRODID:-//ChamberMaster//Event Calendar 2.0//EN
METHOD:PUBLISH
X-PUBLISHED-TTL:P3D
REFRESH-INTERVAL:P3D
CALSCALE:GREGORIAN
BEGIN:VEVENT
DTSTART:20190208T230000Z
DTEND:20190209T000000Z
X-MICROSOFT-CDO-ALLDAYEVENT:FALSE
SUMMARY:Home and Garden Show
DESCRIPTION:CHANGED TO FRIDAY.\n\n\n\nHome and Garden Show Committee
X-ALT-DESC;FMTTYPE=text/html:<u><strong><span style="font-size:14px\;">CHANGED TO FRIDAY.</span></strong></u><br />\n<br />\nHome and Garden Show Committee
LOCATION:NIBCA office
UID:e.9298.1344
SEQUENCE:3
DTSTAMP:20260420T020724Z
URL:http://nibca-dev.memberzone.com/events/details/home-and-garden-show-1344
END:VEVENT

END:VCALENDAR
