BEGIN:VCALENDAR
VERSION:2.0
PRODID:-//ChamberMaster//Event Calendar 2.0//EN
METHOD:PUBLISH
X-PUBLISHED-TTL:P3D
REFRESH-INTERVAL:P3D
CALSCALE:GREGORIAN
BEGIN:VEVENT
DTSTART:20190218T233000Z
DTEND:20190219T003000Z
X-MICROSOFT-CDO-ALLDAYEVENT:FALSE
SUMMARY:Home and Garden Meeting
DESCRIPTION:Home and Garden Show Meetin
X-ALT-DESC;FMTTYPE=text/html:Home and Garden Show Meetin&nbsp\;&nbsp\;&nbsp\;&nbsp\;&nbsp\;&nbsp\;&nbsp\;&nbsp\;
LOCATION:NIBCA Office
UID:e.9298.1363
SEQUENCE:3
DTSTAMP:20260420T035630Z
URL:http://nibca-dev.memberzone.com/events/details/home-and-garden-meeting-1363
END:VEVENT

END:VCALENDAR
