BEGIN:VCALENDAR
VERSION:2.0
PRODID:-//ChamberMaster//Event Calendar 2.0//EN
METHOD:PUBLISH
X-PUBLISHED-TTL:P3D
REFRESH-INTERVAL:P3D
CALSCALE:GREGORIAN
BEGIN:VEVENT
DTSTART:20160127T000000Z
DTEND:20160127T010000Z
X-MICROSOFT-CDO-ALLDAYEVENT:FALSE
SUMMARY:Home and Garden Committee Meeting
DESCRIPTION:NIBCA Home & Garden Committee meeting\n\nClick here to download the minutes from the last meeting.
X-ALT-DESC;FMTTYPE=text/html:<span style="color: rgb(51\, 51\, 51)\; font-family: sans-serif\, Arial\, Verdana\, 'Trebuchet MS'\; font-size: 13px\; line-height: 20.8px\;">NIBCA&nbsp\;Home &amp\; Garden Committee meeting</span><br style="color: rgb(51\, 51\, 51)\; font-family: sans-serif\, Arial\, Verdana\, 'Trebuchet MS'\; font-size: 13px\; line-height: 20.8px\;" />\n<span style="color: rgb(51\, 51\, 51)\; font-family: sans-serif\, Arial\, Verdana\, 'Trebuchet MS'\; font-size: 13px\; line-height: 20.8px\;"><a href="http://cloud.chambermaster.com/userfiles/UserFiles/chambers/9298/File/2016-1-6HomeGardenCommitteeMeetingMinutes.pdf">Click here</a>&nbsp\;to download the minutes from the last meeting.</span>
LOCATION:NIBCA Office: 1928 N. 4th St. Coeur d' Alene\, ID 83814
UID:e.9298.525
SEQUENCE:3
DTSTAMP:20260423T211813Z
URL:http://nibca-dev.memberzone.com/events/details/home-and-garden-committee-meeting-01-26-2016-525
END:VEVENT

END:VCALENDAR
