BEGIN:VCALENDAR
VERSION:2.0
PRODID:-//ChamberMaster//Event Calendar 2.0//EN
METHOD:PUBLISH
X-PUBLISHED-TTL:P3D
REFRESH-INTERVAL:P3D
CALSCALE:GREGORIAN
BEGIN:VEVENT
DTSTART:20181220T230000Z
DTEND:20181221T000000Z
X-MICROSOFT-CDO-ALLDAYEVENT:FALSE
SUMMARY:Gone Wild Wrap up meeting
DESCRIPTION:Gone Wild Wrap up meeting    \n\nBefore Yule Bucking and Spike Party
X-ALT-DESC;FMTTYPE=text/html:Gone Wild Wrap up meeting&nbsp\;&nbsp\;&nbsp\;&nbsp\;<br />\nBefore Yule Bucking and Spike Party
LOCATION:NIBCA Office
UID:e.9298.1336
SEQUENCE:3
DTSTAMP:20260420T072009Z
URL:http://nibca-dev.memberzone.com/events/details/gone-wild-wrap-up-meeting-1336
END:VEVENT

END:VCALENDAR
