BEGIN:VCALENDAR
VERSION:2.0
PRODID:-//ChamberMaster//Event Calendar 2.0//EN
METHOD:PUBLISH
X-PUBLISHED-TTL:P3D
REFRESH-INTERVAL:P3D
CALSCALE:GREGORIAN
BEGIN:VEVENT
DTSTART:20151214T190000Z
DTEND:20151214T200000Z
X-MICROSOFT-CDO-ALLDAYEVENT:FALSE
SUMMARY:FREE NIBCA Member Webinar: Enhance the Value of Your Business by Offering a Quality Retirement Plan
DESCRIPTION:Retirement means having the freedom to do what we find most fulfilling and sound retirement planning lays that foundation. Establishing a retirement plan for a home building business can increase its value and help retain and attract quality employees. In this session you will learn about the various plans appropriate for different business sizes and structures\, as well as how breaking down future goals into small\, manageable steps can make a path to retirement planning attainable.\n \n\nLearning Objectives:\n\n\n	Review case study evaluations and use of calculators to demonstrate methods to calculate needs in retirement.\n	Discuss decisions that must be made when funding a retirement plan for the home building business.\n	Discover how to establish the right retirement plan for the business.\n	Describe retirement statistics for individuals and businesses across the United States.\n\n \n\nSpeaker Information:\n\n\n	Speaker: Peter Polovsky\, Senior Retirement Program Specialist\, AXA Association Business Solutions  \n	Moderator: Monica Couillard\, Lead Relationship Manager\, AXA Association Business Solutions\n\n \n\nThis webinar is brought to you free of charge by AXA Association Business Solutions\, which has been serving members of associations for over 46 years. Please visit www.axa.com/nahb to learn more about the special programs for NAHB members.
X-ALT-DESC;FMTTYPE=text/html:<p style="margin: 0px 0px 20px\; padding: 0px\; font-size: 14px\; color: rgb(0\, 24\, 54)\; line-height: 22px\; font-family: source_sans_proregular\;">Retirement means having the freedom to do what we find most fulfilling and sound retirement planning lays that foundation. Establishing a retirement plan for a home building business can increase its value and help retain and attract quality employees. In this session you will learn about the various plans appropriate for different business sizes and structures\, as well as how breaking down future goals into small\, manageable steps can make a path to retirement planning attainable.</p>\n&nbsp\;\n\n<p style="margin: 0px 0px 20px\; padding: 0px\; font-size: 14px\; color: rgb(0\, 24\, 54)\; line-height: 22px\; font-family: source_sans_proregular\;"><strong style="margin: 0px\; padding: 0px\; font-family: source_sans_prosemibold\;">Learning Objectives:</strong></p>\n\n<ul style="margin: 10px 0px 10px 20px\; padding-right: 0px\; padding-left: 0px\; list-style: none\; font-size: 14px\; color: rgb(0\, 24\, 54)\; font-family: source_sans_proregular\; line-height: 18px\;">\n	<li style="margin: 0px\; padding: 0px 0px 0px 20px\; background: url(https://www.nahb.org/sites/NAHB/images/li_arrow_blue.png) 5px 5px no-repeat\;">Review case study evaluations and use of calculators to demonstrate methods to calculate needs in retirement.</li>\n	<li style="margin: 0px\; padding: 0px 0px 0px 20px\; background: url(https://www.nahb.org/sites/NAHB/images/li_arrow_blue.png) 5px 5px no-repeat\;">Discuss decisions that must be made when funding a retirement plan for the home building business.</li>\n	<li style="margin: 0px\; padding: 0px 0px 0px 20px\; background: url(https://www.nahb.org/sites/NAHB/images/li_arrow_blue.png) 5px 5px no-repeat\;">Discover how to establish the right retirement plan for the business.</li>\n	<li style="margin: 0px\; padding: 0px 0px 0px 20px\; background: url(https://www.nahb.org/sites/NAHB/images/li_arrow_blue.png) 5px 5px no-repeat\;">Describe retirement statistics for individuals and businesses across the United States.</li>\n</ul>\n&nbsp\;\n\n<p style="margin: 0px 0px 20px\; padding: 0px\; font-size: 14px\; color: rgb(0\, 24\, 54)\; line-height: 22px\; font-family: source_sans_proregular\;"><strong style="margin: 0px\; padding: 0px\; font-family: source_sans_prosemibold\;">Speaker Information:</strong></p>\n\n<ul style="margin: 10px 0px 10px 20px\; padding-right: 0px\; padding-left: 0px\; list-style: none\; font-size: 14px\; color: rgb(0\, 24\, 54)\; font-family: source_sans_proregular\; line-height: 18px\;">\n	<li style="margin: 0px\; padding: 0px 0px 0px 20px\; background: url(https://www.nahb.org/sites/NAHB/images/li_arrow_blue.png) 5px 5px no-repeat\;">Speaker: Peter Polovsky\, Senior Retirement Program Specialist\, AXA Association Business Solutions&nbsp\;&nbsp\;</li>\n	<li style="margin: 0px\; padding: 0px 0px 0px 20px\; background: url(https://www.nahb.org/sites/NAHB/images/li_arrow_blue.png) 5px 5px no-repeat\;">Moderator: Monica Couillard\, Lead Relationship Manager\, AXA Association Business Solutions</li>\n</ul>\n&nbsp\;\n\n<p style="margin: 0px 0px 20px\; padding: 0px\; font-size: 14px\; color: rgb(0\, 24\, 54)\; line-height: 22px\; font-family: source_sans_proregular\;"><em style="margin: 0px\; padding: 0px\; font-family: source_sans_proitalic\;">This webinar is brought to you free of charge by AXA Association Business Solutions\, which has been serving members of associations for over 46 years. Please visit&nbsp\;<a href="https://urldefense.proofpoint.com/v2/url?u=http-3A__www.axa.com_nahb&amp\;d=CwMFAw&amp\;c=hCLxfJq9j_r9eaDl3ZiMkA&amp\;r=1Zz-B1Mqpf0Ebl2VJXaX2Q&amp\;m=zkgrYgfewxfRujG3yTrP_tl0uImlyuv-XWKQVS-S3GU&amp\;s=_KVrwUZNbpZD-M3Dkhz5shqPxuLDFKQ4DhQdi25NwQ0&amp\;e=" style="margin: 0px\; padding: 0px\; text-decoration: none\; cursor: pointer\; color: rgb(15\, 103\, 161)\;">www.axa.com/nahb</a>&nbsp\;to learn more about the special programs for NAHB members.</em></p>\n
LOCATION:Click here to register for this online webinar.
UID:e.9298.512
SEQUENCE:3
DTSTAMP:20260423T212108Z
URL:http://nibca-dev.memberzone.com/events/details/free-nibca-member-webinar-enhance-the-value-of-your-business-by-offering-a-quality-retirement-plan-12-14-2015-512
END:VEVENT

END:VCALENDAR
