BEGIN:VCALENDAR
VERSION:2.0
PRODID:-//ChamberMaster//Event Calendar 2.0//EN
METHOD:PUBLISH
X-PUBLISHED-TTL:P3D
REFRESH-INTERVAL:P3D
CALSCALE:GREGORIAN
BEGIN:VEVENT
DTSTART:20190418T220000Z
DTEND:20190418T224500Z
X-MICROSOFT-CDO-ALLDAYEVENT:FALSE
SUMMARY:Executive Board Meeting
DESCRIPTION:Executive Board Meeting
X-ALT-DESC;FMTTYPE=text/html:Executive Board Meeting&nbsp\;&nbsp\;&nbsp\;&nbsp\;
LOCATION:NIBCA office.
UID:e.9298.1379
SEQUENCE:3
DTSTAMP:20260419T222302Z
URL:http://nibca-dev.memberzone.com/events/details/executive-board-meeting-1379
END:VEVENT

END:VCALENDAR
