BEGIN:VCALENDAR
VERSION:2.0
PRODID:-//ChamberMaster//Event Calendar 2.0//EN
METHOD:PUBLISH
X-PUBLISHED-TTL:P3D
REFRESH-INTERVAL:P3D
CALSCALE:GREGORIAN
BEGIN:VEVENT
DTSTART:20190425T190000Z
DTEND:20190425T200000Z
X-MICROSOFT-CDO-ALLDAYEVENT:FALSE
SUMMARY:Education Committee
DESCRIPTION:DATE CHANGED\n\nEducation Committee Meeting \n\nConstrcution Combine Wrap up meeting.
X-ALT-DESC;FMTTYPE=text/html:<span style="font-size:20px\;">DATE CHANGED</span><br />\nEducation Committee Meeting&nbsp\;<br />\nConstrcution Combine Wrap up meeting.
LOCATION:NIBCA office 1928 N 4th St CDA
UID:e.9298.1292
SEQUENCE:3
DTSTAMP:20260419T222323Z
URL:http://nibca-dev.memberzone.com/events/details/education-committee-04-17-2019-1292
END:VEVENT

END:VCALENDAR
