BEGIN:VCALENDAR
VERSION:2.0
PRODID:-//ChamberMaster//Event Calendar 2.0//EN
METHOD:PUBLISH
X-PUBLISHED-TTL:P3D
REFRESH-INTERVAL:P3D
CALSCALE:GREGORIAN
BEGIN:VEVENT
DTSTART:20190307T200000Z
DTEND:20190307T210000Z
X-MICROSOFT-CDO-ALLDAYEVENT:FALSE
SUMMARY:Education Committee
DESCRIPTION:Education Committee Meeting    Construction Combine
X-ALT-DESC;FMTTYPE=text/html:Education Committee Meeting&nbsp\; &nbsp\; Construction Combine&nbsp\;
LOCATION:NIBCA office 1928 N 4th St CDA
UID:e.9298.1346
SEQUENCE:3
DTSTAMP:20260420T001451Z
URL:http://nibca-dev.memberzone.com/events/details/education-committee-03-07-2019-1346
END:VEVENT

END:VCALENDAR
