BEGIN:VCALENDAR
VERSION:2.0
PRODID:-//ChamberMaster//Event Calendar 2.0//EN
METHOD:PUBLISH
X-PUBLISHED-TTL:P3D
REFRESH-INTERVAL:P3D
CALSCALE:GREGORIAN
BEGIN:VEVENT
DTSTART:20181009T230000Z
DTEND:20181010T000000Z
X-MICROSOFT-CDO-ALLDAYEVENT:FALSE
SUMMARY:Associates Council has GONE WILD
DESCRIPTION:Associates Council Gone Wild meeting
X-ALT-DESC;FMTTYPE=text/html:Associates Council Gone Wild meeting&nbsp\;&nbsp\;&nbsp\;&nbsp\;
LOCATION:NIBCA Office
UID:e.9298.1246
SEQUENCE:3
DTSTAMP:20260420T104300Z
URL:http://nibca-dev.memberzone.com/events/details/associates-council-has-gone-wild-1246
END:VEVENT

END:VCALENDAR
