BEGIN:VCALENDAR
VERSION:2.0
PRODID:-//ChamberMaster//Event Calendar 2.0//EN
METHOD:PUBLISH
X-PUBLISHED-TTL:P3D
REFRESH-INTERVAL:P3D
CALSCALE:GREGORIAN
BEGIN:VEVENT
DTSTART:20190124T000000Z
DTEND:20190124T010000Z
X-MICROSOFT-CDO-ALLDAYEVENT:FALSE
SUMMARY:Associates Council
DESCRIPTION:Associates Council Meeting    This month on WEDNESDAY
X-ALT-DESC;FMTTYPE=text/html:Associates Council Meeting&nbsp\; &nbsp\;<span style="color:#FF0000\;"> This month on WEDNESDAY</span>
LOCATION:Paddy's on Appleway
UID:e.9298.1275
SEQUENCE:3
DTSTAMP:20260420T040221Z
URL:http://nibca-dev.memberzone.com/events/details/associates-council-1275
END:VEVENT

END:VCALENDAR
